BEGIN:VCALENDAR
VERSION:2.0
PRODID:-//GBP Kołbiel - ECPv6.15.18//NONSGML v1.0//EN
CALSCALE:GREGORIAN
METHOD:PUBLISH
X-WR-CALNAME:GBP Kołbiel
X-ORIGINAL-URL:https://bibliotekakolbiel.pl
X-WR-CALDESC:Wydarzenia dla GBP Kołbiel
REFRESH-INTERVAL;VALUE=DURATION:PT1H
X-Robots-Tag:noindex
X-PUBLISHED-TTL:PT1H
BEGIN:VTIMEZONE
TZID:Europe/Warsaw
BEGIN:DAYLIGHT
TZOFFSETFROM:+0100
TZOFFSETTO:+0200
TZNAME:CEST
DTSTART:20250330T010000
END:DAYLIGHT
BEGIN:STANDARD
TZOFFSETFROM:+0200
TZOFFSETTO:+0100
TZNAME:CET
DTSTART:20251026T010000
END:STANDARD
BEGIN:DAYLIGHT
TZOFFSETFROM:+0100
TZOFFSETTO:+0200
TZNAME:CEST
DTSTART:20260329T010000
END:DAYLIGHT
BEGIN:STANDARD
TZOFFSETFROM:+0200
TZOFFSETTO:+0100
TZNAME:CET
DTSTART:20261025T010000
END:STANDARD
BEGIN:DAYLIGHT
TZOFFSETFROM:+0100
TZOFFSETTO:+0200
TZNAME:CEST
DTSTART:20270328T010000
END:DAYLIGHT
BEGIN:STANDARD
TZOFFSETFROM:+0200
TZOFFSETTO:+0100
TZNAME:CET
DTSTART:20271031T010000
END:STANDARD
END:VTIMEZONE
BEGIN:VEVENT
DTSTART;TZID=Europe/Warsaw:20260423T170000
DTEND;TZID=Europe/Warsaw:20260423T180000
DTSTAMP:20260420T021137
CREATED:20260324T105321Z
LAST-MODIFIED:20260324T105321Z
UID:21322-1776963600-1776967200@bibliotekakolbiel.pl
SUMMARY:Zajęcia Małych Odkrywców - Równowaga i środek ciężkości
DESCRIPTION:Zapraszamy na fascynujące warsztaty z cyklu Mali Odkrywcy\, podczas których weźmiemy pod lupę środek ciężkości i sprawdzimy\, jak utrzymać pion w każdej sytuacji! \n \n🏗️Dlaczego wieża z klocków czasem stoi\, a czasem nagle ląduje na dywanie? Jak to możliwe\, że linoskoczek nie spada\, a kula toczy się  sama? Już 23 kwietnia wkraczamy do akcji\, by rozpracować siły rządzące światem! \n🧪 Co będziemy robić? \nPrzejdziemy od teorii do niesamowitych doświadczeń! Mali naukowcy dowiedzą się: \n\nCzym jest równowaga? (To ten magiczny stan\, gdy wszystkie siły się dogadują i ciało ani drgnie!).\nGdzie ukrywa się środek ciężkości? Znajdziemy ten punkt\, w którym skupia się cały ciężar obiektu.\nRodzaje równowagi: Sprawdzimy\, dlaczego niektóre rzeczy wracają do pionu (trwała)\, inne padają po lekkim pchnięciu (chwiejna)\, a kuli jest wszystko jedno (obojętna).\nTriki stabilności: Nauczymy się\, jak kucanie lub szerszy rozstaw nóg zmienia naszą wytrzymałość na „wywrotki”.\n\n📍 Informacje organizacyjne: \n\nKiedy: 23 kwietnia (czwartek)\nGodzina: 17:00\nGdzie: Budynek Urzędu Gminy w Kołbieli\, ul. Szkolna 1\nKoszt: 15 zł / os.\nZapisy: Obowiązkowe przez Strefę Zajęć na stronie internetowej biblioteki 30.03.2026 godz. 10.00.\n\n zapisy \nDołącz do Małych Odkrywców złap z nami balans i zostań mistrzem fizyki w praktyce!
URL:https://bibliotekakolbiel.pl/wydarzenie/zajecia-malych-odkrywcow-rownowaga-i-srodek-ciezkosci/
LOCATION:GBP w Kołbieli
END:VEVENT
BEGIN:VEVENT
DTSTART;TZID=Europe/Warsaw:20260424T170000
DTEND;TZID=Europe/Warsaw:20260424T190000
DTSTAMP:20260420T021137
CREATED:20260324T105623Z
LAST-MODIFIED:20260324T105623Z
UID:21326-1777050000-1777057200@bibliotekakolbiel.pl
SUMMARY:Twórcza Posiadówka - Spiralny naszyjnik
DESCRIPTION:🌈 Rozkręcamy kreatywność! Twórcza Posiadówka w Kołbieli! \nMasz ochotę na dawkę inspiracji i własnoręcznie wykonane cudeńka? Jeśli rękodzieło to Twoja pasja (albo po prostu chcesz sprawdzić\, czy drzemie w Tobie artysta)\, nie może Cię zabraknąć! \nJuż 24 kwietnia ruszamy z kolejną edycją naszej legendarnej Twórczej Posiadówki! Tym razem na warsztat bierzemy kolorową mulinę i zamieniamy ją w… fikuśne zawijaski! 🌀✨ \n🧶 Co będziemy robić? \nStworzymy niepowtarzalną\, energetyczną biżuterię\, która ożywi każdą wiosenną stylizację. Metoda „zawijaskowa” to świetna zabawa\, relaks i gwarantowany efekt WOW! \nZapisy od 30 marca tel. 25 757 39 92 w. 107 \n📍 Gdzie i kiedy? \n\nKiedy: 24.04 (piątek)\nStart: godzina 17:00\nGdzie: Kołbiel\, ul. Szkolna (nasza kreatywna baza!)\n\n🌟 Dla kogo? \nDla każdego (rekomendowany wiek 16+)\, kto czuje twórczy głód! Zapraszamy osoby\, które kochają tworzyć\, plotkować przy pracy i chcą wyjść z warsztatów z własnoręcznie zrobioną biżuterią. \nUwaga: Poziom pozytywnej energii może gwałtownie wzrosnąć! 🚀 \nNie siedź w domu – przyjdź\, zapleć z nami coś wyjątkowego i zasil szeregi lokalnych rękodzielników!
URL:https://bibliotekakolbiel.pl/wydarzenie/tworcza-posiadowka-spiralny-naszyjnik/
LOCATION:GBP w Kołbieli
END:VEVENT
BEGIN:VEVENT
DTSTART;TZID=Europe/Warsaw:20260426T230000
DTEND;TZID=Europe/Warsaw:20260426T230000
DTSTAMP:20260420T021137
CREATED:20260325T121744Z
LAST-MODIFIED:20260325T121744Z
UID:21333-1777244400-1777244400@bibliotekakolbiel.pl
SUMMARY:Dzień Ziemi 2026
DESCRIPTION:🌍 CAŁA GMINA SPRZĄTA – Mieszkańcy\, Sąsiedzi\, Goście! Czas rozruszać się po zimie i zrobić coś dobrego dla naszej „małej ojczyzny”! 🌳\n \nW niedzielę 26 kwietnia łączymy siły z Urzędem Gminy i ruszamy w teren. \nTo nie jest zwykłe sprzątanie – to wielka mobilizacja wszystkich sołectw! Chcemy\, aby tego dnia każdy zakątek naszej gminy odetchnął z ulgą. Włączcie się mobilizując siły w swoim sołectwie i zróbcie porządek we własnym otoczeniu!!! \nMy proponujemy: \n📅 Plan Działania:\nspotykamy się: na parkingu przy ulicy Kolejowej w Celestynowie (na wprost nr 37) \n\n\n11:00 – 14:00 | Wielki spacer ekologiczny: Wyruszamy w lasy i na ścieżki. Zbieramy to\, co nie powinno się tam znaleźć\, dbamy o naturę i ładujemy baterie na świeżym powietrzu. \n\n\nPo 14:00 | Zasłużony relaks: Spotykamy się przy wspólnym ognisku w Skorupach. Czekają gorące kiełbaski\, miłe towarzystwo i czas na sąsiedzkie pogaduchy😋🙂 \n\n\n🎁 NIESPODZIANKA!\nDla najbardziej zaangażowanych\, którzy do nas dołączą\, przygotowaliśmy ekokonkurs. Do wygrania są profesjonalne budki lęgowe\, które możecie zawiesić w swoich ogrodach lub lasach\, by zaprosić do siebie skrzydlatych sąsiadów! 🐦 \nCo zabrać? Dobry humor i wygodne buty. My (wraz z Urzędem Gminy) zapewniamy worki\, rękawice i świetną atmosferę. \nRazem sprawimy\, że nasza gmina odzyska blask! Do zobaczenia w niedzielę! 🧤💪 \n📢 WEZWANIE DO SOŁECTW!\nSołtysi\, Rady Sołeckie\, Mieszkańcy – włączcie się mobilizując siły w swoim sołectwie i zróbcie porządek we własnym otoczeniu\,pokażcie moc swojej okolicy! \n Zachęcamy\, aby każde sołectwo zorganizowało grupę u siebie. Sprzątajmy lokalnie\, by cieszyć się czystą gminą globalnie!
URL:https://bibliotekakolbiel.pl/wydarzenie/dzien-ziemi-2026/
LOCATION:GBP w Kołbieli
END:VEVENT
END:VCALENDAR